BEGIN:VCALENDAR
VERSION:2.0
PRODID:-//SGSM - ECPv6.15.20//NONSGML v1.0//EN
CALSCALE:GREGORIAN
METHOD:PUBLISH
X-WR-CALNAME:SGSM
X-ORIGINAL-URL:https://sgsm.com.my/prod
X-WR-CALDESC:Events for SGSM
REFRESH-INTERVAL;VALUE=DURATION:PT1H
X-Robots-Tag:noindex
X-PUBLISHED-TTL:PT1H
BEGIN:VTIMEZONE
TZID:Asia/Shanghai
BEGIN:STANDARD
TZOFFSETFROM:+0800
TZOFFSETTO:+0800
TZNAME:CST
DTSTART:20210101T000000
END:STANDARD
END:VTIMEZONE
BEGIN:VEVENT
DTSTART;TZID=Asia/Shanghai:20231011T080000
DTEND;TZID=Asia/Shanghai:20231012T170000
DTSTAMP:20260424T032627
CREATED:20231002T074849Z
LAST-MODIFIED:20231002T075601Z
UID:1861-1697011200-1697130000@sgsm.com.my
SUMMARY:SGSM Interstate Team Golf Championship 2023 @ Palm Resort Golf & Country Club
DESCRIPTION:Date : 11st & 12th October 2023 \nVenue : Palm Resort Golf & Country Club \nTee off : 8.00 am (Shotgun Start)
URL:https://sgsm.com.my/prod/eventcalendar/sgsm-interstate-team-golf-championship-2023-palm-resort-golf-country-club/
LOCATION:Palm Resort Golf & Country Club\, Jalan Persiaran\, Off\, Jalan Jumbo\,\, Senai\, Johor\, 81250\, Malaysia
CATEGORIES:Event
ATTACH;FMTTYPE=image/jpeg:https://sgsm.com.my/prod/wp-content/uploads/2023/10/ITGC-2023.jpg
END:VEVENT
BEGIN:VEVENT
DTSTART;TZID=Asia/Shanghai:20230919T080000
DTEND;TZID=Asia/Shanghai:20230919T170000
DTSTAMP:20260424T032627
CREATED:20230913T030138Z
LAST-MODIFIED:20230914T025215Z
UID:1851-1695110400-1695142800@sgsm.com.my
SUMMARY:September Monthly Medal 2023 @ Kelab Golf Seri Selangor
DESCRIPTION:Date : 19th September 2023 \nVenue : Kelab Golf Seri Selangor \nTee off : 7.45 am \nInterested please call our SGSM Admin for more info. TQ
URL:https://sgsm.com.my/prod/eventcalendar/september-monthly-medal-2023-kelab-golf-seri-selangor/
LOCATION:Kelab Golf Seri Selangor (KGSS)\, Persiaran Damansara Indah\, Tropicana\,\, Petaling Jaya\, Selangor\, 47810\, Malaysia
CATEGORIES:Event
ATTACH;FMTTYPE=image/png:https://sgsm.com.my/prod/wp-content/uploads/2023/09/Sept-MM-2023-Resize.png
END:VEVENT
BEGIN:VEVENT
DTSTART;TZID=Asia/Shanghai:20230912T080000
DTEND;TZID=Asia/Shanghai:20230913T170000
DTSTAMP:20260424T032627
CREATED:20230821T064854Z
LAST-MODIFIED:20230821T065049Z
UID:1827-1694505600-1694624400@sgsm.com.my
SUMMARY:27th Sarawak Senior Amatuer Open Golf Championship @ Kelab Golf Sarawak
DESCRIPTION:Date : 12 & 13 Sep 2023 \nVenue : Kelab Golf Sarawak \nLimited to 40 pax. \nInterested please call our SGSM Admin for more info. TQ
URL:https://sgsm.com.my/prod/eventcalendar/27th-sarawak-senior-amatuer-open-golf-championship-kelab-golf-sarawak/
LOCATION:Kelab Golf Sarawak (KGS)\, Jln Stadium (Ring)\, Petra Jaya\,\, Kuching\, Sarawak\, 93050\, Malaysia
CATEGORIES:Event
ATTACH;FMTTYPE=image/jpeg:https://sgsm.com.my/prod/wp-content/uploads/2023/08/27th-Sarawak-Senior-Amateur-Open-V2-scaled.jpg
END:VEVENT
BEGIN:VEVENT
DTSTART;TZID=Asia/Shanghai:20230830T080000
DTEND;TZID=Asia/Shanghai:20230901T170000
DTSTAMP:20260424T032627
CREATED:20230727T081714Z
LAST-MODIFIED:20230727T082040Z
UID:1724-1693382400-1693587600@sgsm.com.my
SUMMARY:Merdeka Golf Challenge 2023 @ Jakarta
DESCRIPTION:Date : 30th Aug – 1st Sep 2023 \nVenue : Jakarta\, Indonesia \nDay 1 – Imperial Golf Club \nDay 2 – Sendayu Golf Club \nDay 3 – Damai Indah PIK \nInterested to join whatsapp 011-6335 8797 \n 
URL:https://sgsm.com.my/prod/eventcalendar/merdeka-golf-challenge-2023-jakarta/
LOCATION:Imperial Club Golf\, Lippo Village\, Jl. Pulau Golf No.2700\, Bencongan\, Kec. Klp. Dua\, Kabupaten Tangerang\,\, Banten\, Banten\, 15811\, Indonesia
CATEGORIES:Event
ATTACH;FMTTYPE=image/jpeg:https://sgsm.com.my/prod/wp-content/uploads/2023/07/Banner-Merdeka-Golf-Challenge-2023-e1690446021376.jpeg
END:VEVENT
BEGIN:VEVENT
DTSTART;TZID=Asia/Shanghai:20230816T080000
DTEND;TZID=Asia/Shanghai:20230816T170000
DTSTAMP:20260424T032627
CREATED:20230718T083018Z
LAST-MODIFIED:20230728T082708Z
UID:1803-1692172800-1692205200@sgsm.com.my
SUMMARY:August Monthly Medal 2023
DESCRIPTION:Date: 16th August 2023 \nDay : Wednesday \nVenue : Templer Park Country Club\, Rawang \nCategory A : 55 until 64 years old (Tee off 7.45am) \nCategory B : 65 years old and above (Tee off 1.45pm) \nMode of Play : Stableford \nInterested please wasap SGSM admin
URL:https://sgsm.com.my/prod/eventcalendar/august-monthly-medal-2023/
LOCATION:Templer Park Country Club (TPCC)\, Templer Park Country Club\, KM21\, Jalan Rawang\, Rawang\, Selangor\, 48000\, Malaysia
CATEGORIES:Event
ATTACH;FMTTYPE=image/jpeg:https://sgsm.com.my/prod/wp-content/uploads/2023/07/August-Monthly-Medal-2023-Banner-V2-scaled-e1690532802458.jpg
END:VEVENT
BEGIN:VEVENT
DTSTART;TZID=Asia/Shanghai:20230726T073000
DTEND;TZID=Asia/Shanghai:20230726T170000
DTSTAMP:20260424T032627
CREATED:20230703T104338Z
LAST-MODIFIED:20230712T083544Z
UID:1757-1690356600-1690390800@sgsm.com.my
SUMMARY:Monthly Medal July 2023
DESCRIPTION:Date : 26th July 2023 (Wednesday) \nVenue : Kelab Golf Negara Subang (KGNS) \nTee Off : 7.30am (Shotgun start) \nMore info : Whatsapp 011-6335 8797
URL:https://sgsm.com.my/prod/eventcalendar/monthly-medal-july-2023/
LOCATION:Kelab Golf Negara Subang (KGNS)\, Kelab Golf Negara Subang\, S11\, 47301 Petaling Jaya\, Petaling Jaya\, Selangor\, 47301\, Malaysia
CATEGORIES:Event
ATTACH;FMTTYPE=image/jpeg:https://sgsm.com.my/prod/wp-content/uploads/2023/07/Monthly-Medal-July-2023-resize-1.jpg
END:VEVENT
BEGIN:VEVENT
DTSTART;TZID=Asia/Shanghai:20230622T080000
DTEND;TZID=Asia/Shanghai:20230622T170000
DTSTAMP:20260424T032627
CREATED:20230609T112640Z
LAST-MODIFIED:20230614T050305Z
UID:1716-1687420800-1687453200@sgsm.com.my
SUMMARY:Anniversary Trophy 2023 & 89th Annual General Meeting SGSM
DESCRIPTION:Date  : 22nd June 2023 \nDay    : Thursday \nToff    : 7.45am \nTbox  : White \nFees :RM400 inc \n\nGreen\nBuggy\nCaddie\nTips (caddie)\nBfast\nLunch\nPrizes & LDraw.\n\nFees for The Mines  member is RM300. \nTo register just type ‘YES’ ‘SGSM Membership Number’ and send through this WAG. Pls  register early. FCFS basis. \nFull payment MUST be made on or before 8 June 23 to SGSM Maybank account 5648 0167 0383 \nAGM will commence after lunch @ 2pm.
URL:https://sgsm.com.my/prod/eventcalendar/anniversary-trophy-2023-89th-annual-general-meeting-sgsm/
LOCATION:The Mines Resort & Golf Club\, Jalan Kelikir\, MINES Resort City\, Seri Kembangan\, Selangor\, 43300\, Malaysia
CATEGORIES:Event
ATTACH;FMTTYPE=image/jpeg:https://sgsm.com.my/prod/wp-content/uploads/2023/06/Banner-Anniversary-AGM-resize.jpg
END:VEVENT
BEGIN:VEVENT
DTSTART;TZID=Asia/Shanghai:20230517T080000
DTEND;TZID=Asia/Shanghai:20230517T170000
DTSTAMP:20260424T032627
CREATED:20230608T050930Z
LAST-MODIFIED:20230608T050939Z
UID:1713-1684310400-1684342800@sgsm.com.my
SUMMARY:SGSM Aidil Fitri Golf Challenge 2023
DESCRIPTION:Date  : 17 MAY 2023 (Wednesday) \nVenue: Impian Golf & Country Club. \nToff    : 7:45am (shotgun) \nTbox : WHITE \n  \nMOP: STROKEPLAY \nCategory: Senior 55-64\, Super Senior 65-74\, Golden Senior 75+. \nMax.Pax : 120 pax FCFS basis. \n  \nEntrance Fee:- \nRM250 Non Impian Member \nRM175 Impian Member \n(incl. green fee\, Sharing buggy /Caddy\, insurance\, B’fast\, lunch\, prizes & lucky draw) \nClosing date for registration & payment: \nFriday\, 12 May 2023. \nTo register just type ‘Yes’ SGSM membership no’ and send through this WAG. \nKindly proceed with the payment of RM250/RM175 to SGSM new Maybank (TTDI) account no. 5648 0167 0383 Account name: Persatuan Senior Golfers Malaysia.
URL:https://sgsm.com.my/prod/eventcalendar/sgsm-aidil-fitri-golf-challenge-2023/
LOCATION:Impian Golf & Country Club\, Jalan Impian Gemilang\, Saujana Impian\, Kajang\, Selangor\, 43000\, Malaysia
CATEGORIES:Event
ATTACH;FMTTYPE=image/jpeg:https://sgsm.com.my/prod/wp-content/uploads/2023/06/Banner-Aidil-Fitri-Golf-e1686200910315.jpeg
END:VEVENT
BEGIN:VEVENT
DTSTART;TZID=Asia/Shanghai:20230501T080000
DTEND;TZID=Asia/Shanghai:20230504T170000
DTSTAMP:20260424T032627
CREATED:20230613T155556Z
LAST-MODIFIED:20230614T101101Z
UID:1718-1682928000-1683219600@sgsm.com.my
SUMMARY:Malindo Cup 2023
DESCRIPTION:Date : 1 May – 4 May 2023 \nTournament venue at Rainbow Hills Golf & Country Club   \nBreakfast & Lunch at Golf Club provided by Organiser. Dinner & Gala Dinner provided by SGSM. \n  \nOfficial Hotel; Swiss Bellinn Bogor Hotel. \nJl. Pajajaran Indah V\, \n01/RW 14\, Baranangsiang\, Kec. Bogor \nTim\, Kota Bogor\, Jawa Barat 16143 \n  \nOfficial Golf Course;  \nRainbow Hills Golf Club \nJl. Padang Golf Bukit Pelangi \nDesa Cijayanti – Babakan Madang \nBogor – Jawa Barat 16720 \n  \nGolfing attire. \nSGSM Day 1 – White Tshirt (provided by SGSM)\, black pant\, white shoe\,  white belt & white cap. \nSGSM Day 2 – Blue Tshirt (provided by SGSM)\, dark blue/black pant\, white shoe\, white belt & white cap. \n  \nMALGA Day 1 – Purple Tshirt and black bottom.  \nMALGA Day 2 – Blue Tshirt and dark blue/black bottom. \n  \nDinner (Tuesday\, 2nd May 2023) at Gili Gili Restaurant (Sundanese Restaurant) \nSGSM & MALGA Dress code – Smart Casual \n  \nGala Dinner (Wednesday\, 3rd May 2023) at Bogor Raya Golf Club \nSGSM – Wear Batik with dark pants and black shoes \nMALGA – Smart Casual \n  \nChief-de-mission: Dato’ Shamsudin Ismail\, President of SGSM \n  \nPIC- Field & Technical Arrangement:  \nDato’ Hj Bahari Hj Abdullah (+6012-618 0500) \nAbdul Razak Jamaludin (+6019-358 2255) \nDato’ Razain Abdul Razab (+6011- 3913 1311) \nJeffery Foo (+6012-208 9163) \n  \nPIC – Hotel & Ground Arrangement: \nDato’ Sri Mohd Sabri Mohd Nadzir (+6013-337 7666) \nMohd Lilansah Idris (+6019-289 0364)
URL:https://sgsm.com.my/prod/eventcalendar/malindo-cup-2023/
LOCATION:Rainbow Hills Golf Club (Bogor-Jawa Barat)\, Jl. Padang Golf Bukit Pelangi\, Desa Cijayanti - Babakan Madang\, Bogor\, Jawa Barat\, 16720\, Indonesia
CATEGORIES:Event
ATTACH;FMTTYPE=image/jpeg:https://sgsm.com.my/prod/wp-content/uploads/2023/06/Banner-Malindo-Cup-2023.jpg
END:VEVENT
BEGIN:VEVENT
DTSTART;TZID=Asia/Shanghai:20230315T080000
DTEND;TZID=Asia/Shanghai:20230315T170000
DTSTAMP:20260424T032627
CREATED:20230608T045402Z
LAST-MODIFIED:20230608T045402Z
UID:1707-1678867200-1678899600@sgsm.com.my
SUMMARY:Kasih Sayang Seriemas Golf Challenge 2023
DESCRIPTION:Date  : 15 MAC 2023 (Wednesday) \nVenue: Kota Seriesmas Golf & Country Club. \nToff    : 7:45am (shotgun) \nTbox : WHITE \n  \nMOP: STROKEPLAY \nCategory: Senior 55-64\, Super Senior 65-74\, Golden Senior 75+. \nMax.Pax : 120 pax FCFS basis. \nEntrance Fee:- \nRM200 (incl. green fee\, Sharing buggy /Caddy\, insurance\, B’fast\, lunch\, prizes & lucky draw) \nClosing date for registration & payment: \nFriday\, 10 Mac 2023. \nTo register just type ‘Yes’ SGSM membership no’ and send through this WAG. \nKindly proceed with the payment of RM200 to SGSM new Maybank (TTDI) account no. 5648 0167 0383 Account name: Persatuan Senior Golfers Malaysia.
URL:https://sgsm.com.my/prod/eventcalendar/kasih-sayang-seriemas-golf-challenge-2023/
LOCATION:Kota Seriemas Golf & Country Club\, Persiaran Seriemas Utama\, Kota Seriemas\, Nilai\, Negeri Sembilan\, 71800\, Malaysia
CATEGORIES:Event
ATTACH;FMTTYPE=image/jpeg:https://sgsm.com.my/prod/wp-content/uploads/2023/06/Banner-Kasih-Sayang-e1686200275396.jpeg
END:VEVENT
BEGIN:VEVENT
DTSTART;TZID=Asia/Shanghai:20230227T080000
DTEND;TZID=Asia/Shanghai:20230301T170000
DTSTAMP:20260424T032627
CREATED:20221216T092256Z
LAST-MODIFIED:20221216T092256Z
UID:1639-1677484800-1677690000@sgsm.com.my
SUMMARY:37th ASEAN Senior Amateur Golf Championship 2023
DESCRIPTION:Date : 27th February to 1st March 2023 \nVenue : Singapore Island Country Club. \nOfficial Registration through WhatApp Group Official 1 & 2 \nMore details will be uploaded soon.
URL:https://sgsm.com.my/prod/eventcalendar/37th-asean-senior-amateur-golf-championship-2023/
LOCATION:Singapore Island Country Club\, Island Course\, 180 Island Club Rd\, 578774\, Singapore
CATEGORIES:Event
ATTACH;FMTTYPE=image/png:https://sgsm.com.my/prod/wp-content/uploads/2022/12/Untitled-design3.png
END:VEVENT
BEGIN:VEVENT
DTSTART;TZID=Asia/Shanghai:20230118T073000
DTEND;TZID=Asia/Shanghai:20230118T170000
DTSTAMP:20260424T032627
CREATED:20221216T083751Z
LAST-MODIFIED:20221216T083828Z
UID:1628-1674027000-1674061200@sgsm.com.my
SUMMARY:SGSM President Trophy 2023
DESCRIPTION:Date : Wednesday\, 18 January 2022 (Tee Off : 07:45 AM) \nVenue : Kuala Lumpur Golf & Country Club. \nPrizes: Overall Gross / Overall Nett / Overall Stableford / Rookies (New Member joining in year 2022) \nOfficial Registration through WhatApp Group Official 1 & 2 start on 28 December 2022.
URL:https://sgsm.com.my/prod/eventcalendar/sgsm-president-trophy-2023/
LOCATION:KLGCC\, 10\, Jalan 1/70 D\, Bukit Kiara\, Kuala Lumpur\, 60000\, Malaysia
CATEGORIES:Event
ATTACH;FMTTYPE=image/png:https://sgsm.com.my/prod/wp-content/uploads/2022/12/Untitled-design2.png
END:VEVENT
BEGIN:VEVENT
DTSTART;TZID=Asia/Shanghai:20221227T080000
DTEND;TZID=Asia/Shanghai:20221227T170000
DTSTAMP:20260424T032627
CREATED:20221216T092431Z
LAST-MODIFIED:20221216T092431Z
UID:1641-1672128000-1672160400@sgsm.com.my
SUMMARY:SGSM WPKL Chapter Inaugural Golf Challenge 2022
DESCRIPTION:Date : Tuesday\, 27 December 2022 (Tee Off : 07:45 AM) \nVenue : Impian Golf & Country Club\, Kajang\, Selangor \nEntry Fee : RM 200.00 (non Impian GCC Member) / RM 150.00 (Member Impian GCC) \nClosing date for registration & payment: Thursday\, 22 December 2022 \nRegistration through WhatApp Group Official 1 & 2
URL:https://sgsm.com.my/prod/eventcalendar/sgsm-wpkl-chapter-inaugural-golf-challenge-2022/
LOCATION:Impian Golf & Country Club\, Jalan Impian Gemilang\, Saujana Impian\, Kajang\, Selangor\, 43000\, Malaysia
CATEGORIES:Event
ATTACH;FMTTYPE=image/png:https://sgsm.com.my/prod/wp-content/uploads/2022/12/Untitled-design1.png
END:VEVENT
BEGIN:VEVENT
DTSTART;TZID=Asia/Shanghai:20221115T080000
DTEND;TZID=Asia/Shanghai:20221116T150000
DTSTAMP:20260424T032627
CREATED:20221005T132516Z
LAST-MODIFIED:20221028T075707Z
UID:1138-1668499200-1668610800@sgsm.com.my
SUMMARY:Annual Championship 2022
DESCRIPTION:Date: 15th November – 16th November 2022\nVenue: Staffield Golf Country Resort\, Mantin\, Negeri Sembilan (Western & Southern course)\nMode of Play : Stroke play\nEntry Fee: RM 380.00 per person. (inclusive Green Fee\, Buggy & Caddy Sharing\, Breakfast & Lunch)\nClosing date for registration : 9 Nov 2022 and Closing date for payment : 13 Nov 2022\nTotal Goodies Bag worth of RM 350.00\nTotal Prizes worth of RM 30\,000\nTotal Lucky Draw worth of RM 6\,000 (3 Grand Lucky Draw and 20 other prizes\n\nHole in One prizes \n\nMazda 2 sponsored by Prima Merdu Sdn Bhd\nSolar Technology sponsored by Solarvest Sdn Bhd (Mr Kenny Tan)\nLembu Brahman or Cash RM 4\,000 sponsored by Dato’ Hj Bahari Hj Abdullah\nCash RM 2\,500 sponsored by Dato’ Hj Aini Mohd Taib\n\nCategories:  \nSenior (age 55 to 66) \n\nOverall Gross\nOverall Net\nDaily Best Gross\nDaily Best Nett\n\nSuper Senior (age 67 to 78) \n\nOverall Net\nDaily Best Nett\n\nGolden Senior (age 79 and above) \n\n\n\nOverall Net\nDaily Best Nett\n\n\n\n 
URL:https://sgsm.com.my/prod/eventcalendar/annual-championship-2022/
LOCATION:Staffield Golf Country Resort\, Batu 13\, Jalan Seremban-KL\,\, Mantin\, Negeri Sembilan\, 71700\, Malaysia
CATEGORIES:Event
ATTACH;FMTTYPE=image/png:https://sgsm.com.my/prod/wp-content/uploads/2022/10/Annual-22-tb.png
END:VEVENT
BEGIN:VEVENT
DTSTART;TZID=Asia/Shanghai:20221114T080000
DTEND;TZID=Asia/Shanghai:20221117T170000
DTSTAMP:20260424T032627
CREATED:20220928T141522Z
LAST-MODIFIED:20221011T114740Z
UID:543-1668412800-1668704400@sgsm.com.my
SUMMARY:32nd Singapore Open Senior Amateur Championship 2022
DESCRIPTION:Date : 14 – 17 November 2022\nVenue : Singapore Island Country Club\nEntry Fee : S$350.00\nClosing Date : 30 September 2022\nFurther information call : Mr Kian Hui 02-6755 5976
URL:https://sgsm.com.my/prod/eventcalendar/32nd-singapore-open-senior-amateur-championship-2022/
LOCATION:Singapore Island Country Club\, Island Course\, 180 Island Club Rd\, 578774\, Singapore
CATEGORIES:Event
ATTACH;FMTTYPE=image/png:https://sgsm.com.my/prod/wp-content/uploads/2022/09/SG-Banner-tb.png
END:VEVENT
BEGIN:VEVENT
DTSTART;TZID=Asia/Shanghai:20221106T080000
DTEND;TZID=Asia/Shanghai:20221106T150000
DTSTAMP:20260424T032627
CREATED:20221011T114838Z
LAST-MODIFIED:20221012T112028Z
UID:1425-1667721600-1667746800@sgsm.com.my
SUMMARY:8th Johor Senior Amateur Open (Men) 2022
DESCRIPTION:Date : 6 November 2022 (Tee Off : 01:30 PM Shot Gun Start)\nVenue : Horizon Hills Golf & Country Club\nEntry Fee : RM 400.00\nFurther Information call : Mr Fadil 019-771 5389 / Mr CC Boo 012-720 8888
URL:https://sgsm.com.my/prod/eventcalendar/8th-johor-senior-amateur-open-men-2022/
LOCATION:Horizon Hills Golf & Country Club\, 1\, Jalan Eka\, Bandar Nusajaya\, Johor\, 79100\, Malaysia
CATEGORIES:Event
ATTACH;FMTTYPE=image/png:https://sgsm.com.my/prod/wp-content/uploads/2022/10/Johor-Senior-Banner.png
END:VEVENT
BEGIN:VEVENT
DTSTART;TZID=Asia/Shanghai:20221027T080000
DTEND;TZID=Asia/Shanghai:20221027T150000
DTSTAMP:20260424T032627
CREATED:20220913T065509Z
LAST-MODIFIED:20221005T142148Z
UID:315-1666857600-1666882800@sgsm.com.my
SUMMARY:SGSM - MALGA Tournament
DESCRIPTION:Date: Thursday\, 27th October 2022\nVenue: Impian Golf & Country Club\, Kajang\, Selangor\nEntrance Fee : RM 200 (Member)\, RM 260 (Member Guest)\, RM 320 (Guest)\nClosing date for registration : Friday\, 21 October 2022\nClosing date for payment : Monday\, 24 October 2022
URL:https://sgsm.com.my/prod/eventcalendar/sgsm-malga-tournament/
LOCATION:Impian Golf & Country Club\, Jalan Impian Gemilang\, Saujana Impian\, Kajang\, Selangor\, 43000\, Malaysia
CATEGORIES:Event
ATTACH;FMTTYPE=image/png:https://sgsm.com.my/prod/wp-content/uploads/2022/10/sgsm-malga-tb.png
END:VEVENT
BEGIN:VEVENT
DTSTART;TZID=Asia/Shanghai:20221025T080000
DTEND;TZID=Asia/Shanghai:20221026T170000
DTSTAMP:20260424T032627
CREATED:20220901T135213Z
LAST-MODIFIED:20221011T114649Z
UID:68-1666684800-1666803600@sgsm.com.my
SUMMARY:6th Indonesian Senior Open
DESCRIPTION:Date : 25 & 26 October 2022\nVenue : Gunung Geulis Country Club\nEntry Fee : IDR 4\,000\,000.00\nClosing Date : 30 September 2022\nFurther information call : Ratu 0857 1798 3335 / Becky 0821 1295 3580
URL:https://sgsm.com.my/prod/eventcalendar/6th-indonesian-senior-open/
LOCATION:Gunung Geulis Country Club\, 9VG6+3MH\, Jalan Pasir Angin\, Sukaraja\, Nagrak\, Kec. Sukaraja\,\, Kabupaten Bogor\, Jawa Barat\, 16720\, Indonesia
CATEGORIES:Event
ATTACH;FMTTYPE=image/png:https://sgsm.com.my/prod/wp-content/uploads/2022/09/6th-Indonesia-Banner.png
END:VEVENT
BEGIN:VEVENT
DTSTART;TZID=Asia/Shanghai:20221021T080000
DTEND;TZID=Asia/Shanghai:20221023T170000
DTSTAMP:20260424T032627
CREATED:20220913T064525Z
LAST-MODIFIED:20221011T114516Z
UID:310-1666339200-1666544400@sgsm.com.my
SUMMARY:Sabah Senior Amateur Open
DESCRIPTION:Date : 21st & 22nd October 2022\nVenue : Sabah Golf & Country Club\nEntry Fee : RM 330.00 (non SGCC member) / RM 280 (For SGCC member)\nClosing Date: 7th October 2022\nFurther information call : 088-247 533
URL:https://sgsm.com.my/prod/eventcalendar/sabah-senior-amateur-open/
LOCATION:Sabah Golf Club & Country Club\, Sabah Golf & Country Club\, Jalan Kolam\, Bukit Padang\, Kota Kinabalu\, Sabah\, 88820\, Malaysia
CATEGORIES:Event
ATTACH;FMTTYPE=image/png:https://sgsm.com.my/prod/wp-content/uploads/2022/09/Sabah-Senior-Banner.png
END:VEVENT
END:VCALENDAR